BEGIN:VCALENDAR
VERSION:2.0
PRODID:-//Tukios.com/
BEGIN:VEVENT
UID:67cecff7-b7d0-4641-ba0d-4ff32690253b@www.connellfalk.com
DTSTAMP:20260422T172132Z
DTSTART:20260426T180000Z
DTEND:20260426T190000Z
SUMMARY:Visitation
DESCRIPTION:
URL:https://www.connellfalk.com/obituaries/keith-verdi
LOCATION:Connell Falk Funeral Homes & Crematory, Inc. 1418 Main Street  
	Hellertown PA 18055
GEO:40.5898719;-75.3406206
END:VEVENT
END:VCALENDAR